BEGIN:VCALENDAR
VERSION:2.0
PRODID:-//Agenda Éco 72 - ECPv6.15.18//NONSGML v1.0//EN
CALSCALE:GREGORIAN
METHOD:PUBLISH
X-ORIGINAL-URL:https://agendaeco72.fr
X-WR-CALDESC:Évènements pour Agenda Éco 72
REFRESH-INTERVAL;VALUE=DURATION:PT1H
X-Robots-Tag:noindex
X-PUBLISHED-TTL:PT1H
BEGIN:VTIMEZONE
TZID:Europe/Paris
BEGIN:DAYLIGHT
TZOFFSETFROM:+0100
TZOFFSETTO:+0200
TZNAME:CEST
DTSTART:20230326T010000
END:DAYLIGHT
BEGIN:STANDARD
TZOFFSETFROM:+0200
TZOFFSETTO:+0100
TZNAME:CET
DTSTART:20231029T010000
END:STANDARD
BEGIN:DAYLIGHT
TZOFFSETFROM:+0100
TZOFFSETTO:+0200
TZNAME:CEST
DTSTART:20240331T010000
END:DAYLIGHT
BEGIN:STANDARD
TZOFFSETFROM:+0200
TZOFFSETTO:+0100
TZNAME:CET
DTSTART:20241027T010000
END:STANDARD
BEGIN:DAYLIGHT
TZOFFSETFROM:+0100
TZOFFSETTO:+0200
TZNAME:CEST
DTSTART:20250330T010000
END:DAYLIGHT
BEGIN:STANDARD
TZOFFSETFROM:+0200
TZOFFSETTO:+0100
TZNAME:CET
DTSTART:20251026T010000
END:STANDARD
END:VTIMEZONE
BEGIN:VEVENT
DTSTART;VALUE=DATE:20241119
DTEND;VALUE=DATE:20241120
DTSTAMP:20260423T035925
CREATED:20241021T074634Z
LAST-MODIFIED:20241021T074634Z
UID:10000335-1731974400-1732060799@agendaeco72.fr
SUMMARY:Permanence création/reprise
DESCRIPTION:
URL:https://agendaeco72.fr/evenement/permanence-creation-reprise-2/
END:VEVENT
BEGIN:VEVENT
DTSTART;TZID=Europe/Paris:20241119T081500
DTEND;TZID=Europe/Paris:20241119T093000
DTSTAMP:20260423T035925
CREATED:20241007T144858Z
LAST-MODIFIED:20241007T144858Z
UID:10000325-1732004100-1732008600@agendaeco72.fr
SUMMARY:VISITE ENTREPRISE : GRAV’OR
DESCRIPTION:
URL:https://agendaeco72.fr/evenement/visite-entreprise-gravor/
END:VEVENT
BEGIN:VEVENT
DTSTART;TZID=Europe/Paris:20241119T103000
DTEND;TZID=Europe/Paris:20241119T113000
DTSTAMP:20260423T035925
CREATED:20241015T081120Z
LAST-MODIFIED:20241015T081120Z
UID:10000330-1732012200-1732015800@agendaeco72.fr
SUMMARY:Dépassez les réglementations\, valorisez vos déchets : les témoignages qui vous inspireront
DESCRIPTION:
URL:https://agendaeco72.fr/evenement/depassez-les-reglementations-valorisez-vos-dechets-les-temoignages-qui-vous-inspireront/
END:VEVENT
BEGIN:VEVENT
DTSTART;TZID=Europe/Paris:20241119T140000
DTEND;TZID=Europe/Paris:20241119T170000
DTSTAMP:20260423T035925
CREATED:20241030T152708Z
LAST-MODIFIED:20241030T152708Z
UID:10000341-1732024800-1732035600@agendaeco72.fr
SUMMARY:Handicap et parcours professionnel : comment assurer une vraie égalité des chances ?
DESCRIPTION:
URL:https://agendaeco72.fr/evenement/handicap-et-parcours-professionnel-comment-assurer-une-vraie-egalite-des-chances/
END:VEVENT
BEGIN:VEVENT
DTSTART;TZID=Europe/Paris:20241119T183000
DTEND;TZID=Europe/Paris:20241119T183000
DTSTAMP:20260423T035925
CREATED:20240905T080946Z
LAST-MODIFIED:20240905T080946Z
UID:10000301-1732041000-1732041000@agendaeco72.fr
SUMMARY:Soirée des entrepreneurs de la Sarthe
DESCRIPTION:
URL:https://agendaeco72.fr/evenement/soiree-des-entrepreneurs-de-la-sarthe/
END:VEVENT
END:VCALENDAR