BEGIN:VCALENDAR
VERSION:2.0
PRODID:-//Agenda Éco 72 - ECPv6.15.18//NONSGML v1.0//EN
CALSCALE:GREGORIAN
METHOD:PUBLISH
X-WR-CALNAME:Agenda Éco 72
X-ORIGINAL-URL:https://agendaeco72.fr
X-WR-CALDESC:Évènements pour Agenda Éco 72
REFRESH-INTERVAL;VALUE=DURATION:PT1H
X-Robots-Tag:noindex
X-PUBLISHED-TTL:PT1H
BEGIN:VTIMEZONE
TZID:Europe/Paris
BEGIN:DAYLIGHT
TZOFFSETFROM:+0100
TZOFFSETTO:+0200
TZNAME:CEST
DTSTART:20230326T010000
END:DAYLIGHT
BEGIN:STANDARD
TZOFFSETFROM:+0200
TZOFFSETTO:+0100
TZNAME:CET
DTSTART:20231029T010000
END:STANDARD
BEGIN:DAYLIGHT
TZOFFSETFROM:+0100
TZOFFSETTO:+0200
TZNAME:CEST
DTSTART:20240331T010000
END:DAYLIGHT
BEGIN:STANDARD
TZOFFSETFROM:+0200
TZOFFSETTO:+0100
TZNAME:CET
DTSTART:20241027T010000
END:STANDARD
BEGIN:DAYLIGHT
TZOFFSETFROM:+0100
TZOFFSETTO:+0200
TZNAME:CEST
DTSTART:20250330T010000
END:DAYLIGHT
BEGIN:STANDARD
TZOFFSETFROM:+0200
TZOFFSETTO:+0100
TZNAME:CET
DTSTART:20251026T010000
END:STANDARD
END:VTIMEZONE
BEGIN:VEVENT
DTSTART;TZID=Europe/Paris:20241203T083000
DTEND;TZID=Europe/Paris:20241203T103000
DTSTAMP:20260423T010529
CREATED:20240716T103221Z
LAST-MODIFIED:20240716T103221Z
UID:10000286-1733214600-1733221800@agendaeco72.fr
SUMMARY:Outils et dispositifs d’aide à l’évolution professionnelle
DESCRIPTION:
URL:https://agendaeco72.fr/evenement/outils-et-dispositifs-daide-a-levolution-professionnelle/
END:VEVENT
BEGIN:VEVENT
DTSTART;TZID=Europe/Paris:20241203T180000
DTEND;TZID=Europe/Paris:20241203T235900
DTSTAMP:20260423T010529
CREATED:20241125T132932Z
LAST-MODIFIED:20241125T132932Z
UID:10000345-1733248800-1733270340@agendaeco72.fr
SUMMARY:Soirée Happy Business | 3 décembre 2024 | Stade Marie-Marvingt
DESCRIPTION:
URL:https://agendaeco72.fr/evenement/soiree-happy-business-3-decembre-2024-stade-marie-marvingt/
END:VEVENT
END:VCALENDAR