BEGIN:VCALENDAR
VERSION:2.0
PRODID:-//Agenda Éco 72 - ECPv6.15.18//NONSGML v1.0//EN
CALSCALE:GREGORIAN
METHOD:PUBLISH
X-ORIGINAL-URL:https://agendaeco72.fr
X-WR-CALDESC:Évènements pour Agenda Éco 72
REFRESH-INTERVAL;VALUE=DURATION:PT1H
X-Robots-Tag:noindex
X-PUBLISHED-TTL:PT1H
BEGIN:VTIMEZONE
TZID:Europe/Paris
BEGIN:DAYLIGHT
TZOFFSETFROM:+0100
TZOFFSETTO:+0200
TZNAME:CEST
DTSTART:20240331T010000
END:DAYLIGHT
BEGIN:STANDARD
TZOFFSETFROM:+0200
TZOFFSETTO:+0100
TZNAME:CET
DTSTART:20241027T010000
END:STANDARD
BEGIN:DAYLIGHT
TZOFFSETFROM:+0100
TZOFFSETTO:+0200
TZNAME:CEST
DTSTART:20250330T010000
END:DAYLIGHT
BEGIN:STANDARD
TZOFFSETFROM:+0200
TZOFFSETTO:+0100
TZNAME:CET
DTSTART:20251026T010000
END:STANDARD
BEGIN:DAYLIGHT
TZOFFSETFROM:+0100
TZOFFSETTO:+0200
TZNAME:CEST
DTSTART:20260329T010000
END:DAYLIGHT
BEGIN:STANDARD
TZOFFSETFROM:+0200
TZOFFSETTO:+0100
TZNAME:CET
DTSTART:20261025T010000
END:STANDARD
END:VTIMEZONE
BEGIN:VEVENT
DTSTART;TZID=Europe/Paris:20250204T083000
DTEND;TZID=Europe/Paris:20250204T103000
DTSTAMP:20260422T221510
CREATED:20250117T103359Z
LAST-MODIFIED:20250117T103359Z
UID:10000350-1738657800-1738665000@agendaeco72.fr
SUMMARY:Création des visuels via Canva
DESCRIPTION:
URL:https://agendaeco72.fr/evenement/creation-des-visuels-via-canva/
END:VEVENT
BEGIN:VEVENT
DTSTART;TZID=Europe/Paris:20250204T090000
DTEND;TZID=Europe/Paris:20250204T110000
DTSTAMP:20260422T221510
CREATED:20250122T113435Z
LAST-MODIFIED:20250122T113435Z
UID:10000354-1738659600-1738666800@agendaeco72.fr
SUMMARY:Réseaux sociaux en 2025 : Fonctionnement et nouveautés !
DESCRIPTION:
URL:https://agendaeco72.fr/evenement/reseaux-sociaux-en-2025-fonctionnement-et-nouveautes/
END:VEVENT
END:VCALENDAR