BEGIN:VCALENDAR
VERSION:2.0
PRODID:-//Agenda Éco 72 - ECPv6.15.18//NONSGML v1.0//EN
CALSCALE:GREGORIAN
METHOD:PUBLISH
X-ORIGINAL-URL:https://agendaeco72.fr
X-WR-CALDESC:Évènements pour Agenda Éco 72
REFRESH-INTERVAL;VALUE=DURATION:PT1H
X-Robots-Tag:noindex
X-PUBLISHED-TTL:PT1H
BEGIN:VTIMEZONE
TZID:Europe/Paris
BEGIN:DAYLIGHT
TZOFFSETFROM:+0100
TZOFFSETTO:+0200
TZNAME:CEST
DTSTART:20240331T010000
END:DAYLIGHT
BEGIN:STANDARD
TZOFFSETFROM:+0200
TZOFFSETTO:+0100
TZNAME:CET
DTSTART:20241027T010000
END:STANDARD
BEGIN:DAYLIGHT
TZOFFSETFROM:+0100
TZOFFSETTO:+0200
TZNAME:CEST
DTSTART:20250330T010000
END:DAYLIGHT
BEGIN:STANDARD
TZOFFSETFROM:+0200
TZOFFSETTO:+0100
TZNAME:CET
DTSTART:20251026T010000
END:STANDARD
BEGIN:DAYLIGHT
TZOFFSETFROM:+0100
TZOFFSETTO:+0200
TZNAME:CEST
DTSTART:20260329T010000
END:DAYLIGHT
BEGIN:STANDARD
TZOFFSETFROM:+0200
TZOFFSETTO:+0100
TZNAME:CET
DTSTART:20261025T010000
END:STANDARD
END:VTIMEZONE
BEGIN:VEVENT
DTSTART;TZID=Europe/Paris:20250218T074500
DTEND;TZID=Europe/Paris:20250218T090000
DTSTAMP:20260422T232626
CREATED:20250117T111455Z
LAST-MODIFIED:20250117T111455Z
UID:10000353-1739864700-1739869200@agendaeco72.fr
SUMMARY:PETIT DEJEUNER SPEED MEETING CLUB LE MANS OUEST ENTREPRISES
DESCRIPTION:
URL:https://agendaeco72.fr/evenement/petit-dejeuner-speed-meeting-club-le-mans-ouest-entreprises/
END:VEVENT
BEGIN:VEVENT
DTSTART;TZID=Europe/Paris:20250218T093000
DTEND;TZID=Europe/Paris:20250218T123000
DTSTAMP:20260422T232626
CREATED:20250210T130451Z
LAST-MODIFIED:20250210T130451Z
UID:10000368-1739871000-1739881800@agendaeco72.fr
SUMMARY:Atelier Aides financières à l’innovation
DESCRIPTION:
URL:https://agendaeco72.fr/evenement/atelier-aides-financieres-a-linnovation/
END:VEVENT
BEGIN:VEVENT
DTSTART;TZID=Europe/Paris:20250218T181500
DTEND;TZID=Europe/Paris:20250218T210000
DTSTAMP:20260422T232626
CREATED:20250203T090650Z
LAST-MODIFIED:20250203T090650Z
UID:10000361-1739902500-1739912400@agendaeco72.fr
SUMMARY:Assemblée Générale Club SO LE MANS
DESCRIPTION:
URL:https://agendaeco72.fr/evenement/assemblee-generale-club-so-le-mans/
END:VEVENT
END:VCALENDAR