BEGIN:VCALENDAR
VERSION:2.0
PRODID:-//Agenda Éco 72 - ECPv6.15.18//NONSGML v1.0//EN
CALSCALE:GREGORIAN
METHOD:PUBLISH
X-ORIGINAL-URL:https://agendaeco72.fr
X-WR-CALDESC:Évènements pour Agenda Éco 72
REFRESH-INTERVAL;VALUE=DURATION:PT1H
X-Robots-Tag:noindex
X-PUBLISHED-TTL:PT1H
BEGIN:VTIMEZONE
TZID:Europe/Paris
BEGIN:DAYLIGHT
TZOFFSETFROM:+0100
TZOFFSETTO:+0200
TZNAME:CEST
DTSTART:20240331T010000
END:DAYLIGHT
BEGIN:STANDARD
TZOFFSETFROM:+0200
TZOFFSETTO:+0100
TZNAME:CET
DTSTART:20241027T010000
END:STANDARD
BEGIN:DAYLIGHT
TZOFFSETFROM:+0100
TZOFFSETTO:+0200
TZNAME:CEST
DTSTART:20250330T010000
END:DAYLIGHT
BEGIN:STANDARD
TZOFFSETFROM:+0200
TZOFFSETTO:+0100
TZNAME:CET
DTSTART:20251026T010000
END:STANDARD
BEGIN:DAYLIGHT
TZOFFSETFROM:+0100
TZOFFSETTO:+0200
TZNAME:CEST
DTSTART:20260329T010000
END:DAYLIGHT
BEGIN:STANDARD
TZOFFSETFROM:+0200
TZOFFSETTO:+0100
TZNAME:CET
DTSTART:20261025T010000
END:STANDARD
END:VTIMEZONE
BEGIN:VEVENT
DTSTART;TZID=Europe/Paris:20250318T090000
DTEND;TZID=Europe/Paris:20250318T110000
DTSTAMP:20260422T201437
CREATED:20250127T142205Z
LAST-MODIFIED:20250127T142205Z
UID:10000356-1742288400-1742295600@agendaeco72.fr
SUMMARY:[ATELIER] Comment mettre en place un site Internet ?
DESCRIPTION:
URL:https://agendaeco72.fr/evenement/atelier-comment-mettre-en-place-un-site-internet-2/
END:VEVENT
BEGIN:VEVENT
DTSTART;TZID=Europe/Paris:20250318T181500
DTEND;TZID=Europe/Paris:20250318T210000
DTSTAMP:20260422T201437
CREATED:20250203T094320Z
LAST-MODIFIED:20250203T094320Z
UID:10000362-1742321700-1742331600@agendaeco72.fr
SUMMARY:Visite entreprise : AppliDev
DESCRIPTION:
URL:https://agendaeco72.fr/evenement/visite-entreprise-applidev/
END:VEVENT
END:VCALENDAR