BEGIN:VCALENDAR
VERSION:2.0
PRODID:-//Agenda Éco 72 - ECPv6.15.18//NONSGML v1.0//EN
CALSCALE:GREGORIAN
METHOD:PUBLISH
X-WR-CALNAME:Agenda Éco 72
X-ORIGINAL-URL:https://agendaeco72.fr
X-WR-CALDESC:Évènements pour Agenda Éco 72
REFRESH-INTERVAL;VALUE=DURATION:PT1H
X-Robots-Tag:noindex
X-PUBLISHED-TTL:PT1H
BEGIN:VTIMEZONE
TZID:Europe/Paris
BEGIN:DAYLIGHT
TZOFFSETFROM:+0100
TZOFFSETTO:+0200
TZNAME:CEST
DTSTART:20240331T010000
END:DAYLIGHT
BEGIN:STANDARD
TZOFFSETFROM:+0200
TZOFFSETTO:+0100
TZNAME:CET
DTSTART:20241027T010000
END:STANDARD
BEGIN:DAYLIGHT
TZOFFSETFROM:+0100
TZOFFSETTO:+0200
TZNAME:CEST
DTSTART:20250330T010000
END:DAYLIGHT
BEGIN:STANDARD
TZOFFSETFROM:+0200
TZOFFSETTO:+0100
TZNAME:CET
DTSTART:20251026T010000
END:STANDARD
BEGIN:DAYLIGHT
TZOFFSETFROM:+0100
TZOFFSETTO:+0200
TZNAME:CEST
DTSTART:20260329T010000
END:DAYLIGHT
BEGIN:STANDARD
TZOFFSETFROM:+0200
TZOFFSETTO:+0100
TZNAME:CET
DTSTART:20261025T010000
END:STANDARD
END:VTIMEZONE
BEGIN:VEVENT
DTSTART;TZID=Europe/Paris:20250322T140000
DTEND;TZID=Europe/Paris:20250322T170000
DTSTAMP:20260422T202052
CREATED:20250304T125154Z
LAST-MODIFIED:20250304T125154Z
UID:10000375-1742652000-1742662800@agendaeco72.fr
SUMMARY:24H DU CODE – ATELIER Repair Café
DESCRIPTION:
URL:https://agendaeco72.fr/evenement/24h-du-code-atelier-repair-cafe/
END:VEVENT
BEGIN:VEVENT
DTSTART;TZID=Europe/Paris:20250322T143000
DTEND;TZID=Europe/Paris:20250322T171500
DTSTAMP:20260422T202052
CREATED:20250304T125424Z
LAST-MODIFIED:20250304T125424Z
UID:10000376-1742653800-1742663700@agendaeco72.fr
SUMMARY:24H DU CODE – ATELIER Programme ton drone en t’amusant
DESCRIPTION:
URL:https://agendaeco72.fr/evenement/24h-du-code-atelier-programme-ton-drone-en-tamusant/
END:VEVENT
BEGIN:VEVENT
DTSTART;TZID=Europe/Paris:20250322T150000
DTEND;TZID=Europe/Paris:20250322T160000
DTSTAMP:20260422T202052
CREATED:20250304T130116Z
LAST-MODIFIED:20250304T130116Z
UID:10000378-1742655600-1742659200@agendaeco72.fr
SUMMARY:24HDUCODE – L’IA : vers une utilisation intelligente et responsable !
DESCRIPTION:
URL:https://agendaeco72.fr/evenement/24hducode-lia-vers-une-utilisation-intelligente-et-responsable/
END:VEVENT
BEGIN:VEVENT
DTSTART;TZID=Europe/Paris:20250322T150000
DTEND;TZID=Europe/Paris:20250322T174500
DTSTAMP:20260422T202052
CREATED:20250304T125718Z
LAST-MODIFIED:20250304T125718Z
UID:10000377-1742655600-1742665500@agendaeco72.fr
SUMMARY:24H DU CODE – ATELIER Initiation à la programmation avec les robots Mbots !
DESCRIPTION:
URL:https://agendaeco72.fr/evenement/24h-du-code-atelier-initiation-a-la-programmation-avec-les-robots-mbots/
END:VEVENT
END:VCALENDAR