BEGIN:VCALENDAR
VERSION:2.0
PRODID:-//Agenda Éco 72 - ECPv6.15.18//NONSGML v1.0//EN
CALSCALE:GREGORIAN
METHOD:PUBLISH
X-WR-CALNAME:Agenda Éco 72
X-ORIGINAL-URL:https://agendaeco72.fr
X-WR-CALDESC:Évènements pour Agenda Éco 72
REFRESH-INTERVAL;VALUE=DURATION:PT1H
X-Robots-Tag:noindex
X-PUBLISHED-TTL:PT1H
BEGIN:VTIMEZONE
TZID:Europe/Paris
BEGIN:DAYLIGHT
TZOFFSETFROM:+0100
TZOFFSETTO:+0200
TZNAME:CEST
DTSTART:20240331T010000
END:DAYLIGHT
BEGIN:STANDARD
TZOFFSETFROM:+0200
TZOFFSETTO:+0100
TZNAME:CET
DTSTART:20241027T010000
END:STANDARD
BEGIN:DAYLIGHT
TZOFFSETFROM:+0100
TZOFFSETTO:+0200
TZNAME:CEST
DTSTART:20250330T010000
END:DAYLIGHT
BEGIN:STANDARD
TZOFFSETFROM:+0200
TZOFFSETTO:+0100
TZNAME:CET
DTSTART:20251026T010000
END:STANDARD
BEGIN:DAYLIGHT
TZOFFSETFROM:+0100
TZOFFSETTO:+0200
TZNAME:CEST
DTSTART:20260329T010000
END:DAYLIGHT
BEGIN:STANDARD
TZOFFSETFROM:+0200
TZOFFSETTO:+0100
TZNAME:CET
DTSTART:20261025T010000
END:STANDARD
END:VTIMEZONE
BEGIN:VEVENT
DTSTART;TZID=Europe/Paris:20250422T090000
DTEND;TZID=Europe/Paris:20250422T120000
DTSTAMP:20260421T034741
CREATED:20250331T153732Z
LAST-MODIFIED:20250331T153732Z
UID:10000391-1745312400-1745323200@agendaeco72.fr
SUMMARY:Forum de la création d’entreprises
DESCRIPTION:
URL:https://agendaeco72.fr/evenement/forum-de-la-creation-dentreprises/
END:VEVENT
BEGIN:VEVENT
DTSTART;TZID=Europe/Paris:20250422T180000
DTEND;TZID=Europe/Paris:20250422T200000
DTSTAMP:20260421T034741
CREATED:20250331T144510Z
LAST-MODIFIED:20250331T144510Z
UID:10000385-1745344800-1745352000@agendaeco72.fr
SUMMARY:Atelier IA pour les pros: Compréhension et application de l’IA générative
DESCRIPTION:
URL:https://agendaeco72.fr/evenement/atelier-ia-pour-les-pros-comprehension-et-application-de-lia-generative/
END:VEVENT
END:VCALENDAR