BEGIN:VCALENDAR
VERSION:2.0
PRODID:-//Agenda Éco 72 - ECPv6.15.18//NONSGML v1.0//EN
CALSCALE:GREGORIAN
METHOD:PUBLISH
X-ORIGINAL-URL:https://agendaeco72.fr
X-WR-CALDESC:Évènements pour Agenda Éco 72
REFRESH-INTERVAL;VALUE=DURATION:PT1H
X-Robots-Tag:noindex
X-PUBLISHED-TTL:PT1H
BEGIN:VTIMEZONE
TZID:Europe/Paris
BEGIN:DAYLIGHT
TZOFFSETFROM:+0100
TZOFFSETTO:+0200
TZNAME:CEST
DTSTART:20240331T010000
END:DAYLIGHT
BEGIN:STANDARD
TZOFFSETFROM:+0200
TZOFFSETTO:+0100
TZNAME:CET
DTSTART:20241027T010000
END:STANDARD
BEGIN:DAYLIGHT
TZOFFSETFROM:+0100
TZOFFSETTO:+0200
TZNAME:CEST
DTSTART:20250330T010000
END:DAYLIGHT
BEGIN:STANDARD
TZOFFSETFROM:+0200
TZOFFSETTO:+0100
TZNAME:CET
DTSTART:20251026T010000
END:STANDARD
BEGIN:DAYLIGHT
TZOFFSETFROM:+0100
TZOFFSETTO:+0200
TZNAME:CEST
DTSTART:20260329T010000
END:DAYLIGHT
BEGIN:STANDARD
TZOFFSETFROM:+0200
TZOFFSETTO:+0100
TZNAME:CET
DTSTART:20261025T010000
END:STANDARD
END:VTIMEZONE
BEGIN:VEVENT
DTSTART;TZID=Europe/Paris:20250904T180000
DTEND;TZID=Europe/Paris:20250904T210000
DTSTAMP:20260421T015547
CREATED:20250723T075903Z
LAST-MODIFIED:20250909T082344Z
UID:10000430-1757008800-1757019600@agendaeco72.fr
SUMMARY:Afterwork "Roule ta mob" co-organisé par Club SO Le Mans & Club Central'Mans
DESCRIPTION:
URL:https://agendaeco72.fr/evenement/afterwork-roule-ta-mob-co-organise-par-club-so-le-mans-club-centralmans/
LOCATION:Piste d’Education Routière d’Arnage P.E.R.A\, Allée du Bord de Sarthe\, Arnage\, 72230
CATEGORIES:Business/réseautage
ATTACH;FMTTYPE=image/jpeg:https://agendaeco72.fr/wp-content/uploads/2025/07/AFTERWORK-ROULE-TA-MOB.jpg
END:VEVENT
END:VCALENDAR