BEGIN:VCALENDAR
VERSION:2.0
PRODID:-//Agenda Éco 72 - ECPv6.15.18//NONSGML v1.0//EN
CALSCALE:GREGORIAN
METHOD:PUBLISH
X-ORIGINAL-URL:https://agendaeco72.fr
X-WR-CALDESC:Évènements pour Agenda Éco 72
REFRESH-INTERVAL;VALUE=DURATION:PT1H
X-Robots-Tag:noindex
X-PUBLISHED-TTL:PT1H
BEGIN:VTIMEZONE
TZID:Europe/Paris
BEGIN:DAYLIGHT
TZOFFSETFROM:+0100
TZOFFSETTO:+0200
TZNAME:CEST
DTSTART:20240331T010000
END:DAYLIGHT
BEGIN:STANDARD
TZOFFSETFROM:+0200
TZOFFSETTO:+0100
TZNAME:CET
DTSTART:20241027T010000
END:STANDARD
BEGIN:DAYLIGHT
TZOFFSETFROM:+0100
TZOFFSETTO:+0200
TZNAME:CEST
DTSTART:20250330T010000
END:DAYLIGHT
BEGIN:STANDARD
TZOFFSETFROM:+0200
TZOFFSETTO:+0100
TZNAME:CET
DTSTART:20251026T010000
END:STANDARD
BEGIN:DAYLIGHT
TZOFFSETFROM:+0100
TZOFFSETTO:+0200
TZNAME:CEST
DTSTART:20260329T010000
END:DAYLIGHT
BEGIN:STANDARD
TZOFFSETFROM:+0200
TZOFFSETTO:+0100
TZNAME:CET
DTSTART:20261025T010000
END:STANDARD
END:VTIMEZONE
BEGIN:VEVENT
DTSTART;TZID=Europe/Paris:20250910T081500
DTEND;TZID=Europe/Paris:20250910T100000
DTSTAMP:20260421T060114
CREATED:20250905T140656Z
LAST-MODIFIED:20250909T081604Z
UID:10000439-1757492100-1757498400@agendaeco72.fr
SUMMARY:PETIT DEJEUNER ET VISITE D’ENTREPRISE
DESCRIPTION:
URL:https://agendaeco72.fr/evenement/petit-dejeuner-et-visite-dentreprise/
LOCATION:QUODAO\, 162 Rue de Beaugé\, Le Mans\, 72000\, France
CATEGORIES:Business/réseautage
ATTACH;FMTTYPE=image/png:https://agendaeco72.fr/wp-content/uploads/2025/09/Publication-LinkedIn-VISITE.png
END:VEVENT
BEGIN:VEVENT
DTSTART;TZID=Europe/Paris:20250910T090000
DTEND;TZID=Europe/Paris:20250910T180000
DTSTAMP:20260421T060114
CREATED:20250812T070658Z
LAST-MODIFIED:20250909T081433Z
UID:10000436-1757494800-1757527200@agendaeco72.fr
SUMMARY:LMH2 – Le Mans Hydrogène
DESCRIPTION:
URL:https://agendaeco72.fr/evenement/lmh2-le-mans-hydrogene/
LOCATION:Circuit des 24H du Mans\, Pl. Luigi Chinetti\, Le Mans\, 72019\, France
CATEGORIES:Business/réseautage,Forum/salon
ATTACH;FMTTYPE=image/png:https://agendaeco72.fr/wp-content/uploads/2025/08/1-scaled.png
END:VEVENT
END:VCALENDAR