BEGIN:VCALENDAR
VERSION:2.0
PRODID:-//Agenda Éco 72 - ECPv6.15.18//NONSGML v1.0//EN
CALSCALE:GREGORIAN
METHOD:PUBLISH
X-ORIGINAL-URL:https://agendaeco72.fr
X-WR-CALDESC:Évènements pour Agenda Éco 72
REFRESH-INTERVAL;VALUE=DURATION:PT1H
X-Robots-Tag:noindex
X-PUBLISHED-TTL:PT1H
BEGIN:VTIMEZONE
TZID:Europe/Paris
BEGIN:DAYLIGHT
TZOFFSETFROM:+0100
TZOFFSETTO:+0200
TZNAME:CEST
DTSTART:20240331T010000
END:DAYLIGHT
BEGIN:STANDARD
TZOFFSETFROM:+0200
TZOFFSETTO:+0100
TZNAME:CET
DTSTART:20241027T010000
END:STANDARD
BEGIN:DAYLIGHT
TZOFFSETFROM:+0100
TZOFFSETTO:+0200
TZNAME:CEST
DTSTART:20250330T010000
END:DAYLIGHT
BEGIN:STANDARD
TZOFFSETFROM:+0200
TZOFFSETTO:+0100
TZNAME:CET
DTSTART:20251026T010000
END:STANDARD
BEGIN:DAYLIGHT
TZOFFSETFROM:+0100
TZOFFSETTO:+0200
TZNAME:CEST
DTSTART:20260329T010000
END:DAYLIGHT
BEGIN:STANDARD
TZOFFSETFROM:+0200
TZOFFSETTO:+0100
TZNAME:CET
DTSTART:20261025T010000
END:STANDARD
END:VTIMEZONE
BEGIN:VEVENT
DTSTART;TZID=Europe/Paris:20250915T090000
DTEND;TZID=Europe/Paris:20250915T110000
DTSTAMP:20260421T114838
CREATED:20250305T073525Z
LAST-MODIFIED:20250909T081118Z
UID:10000381-1757926800-1757934000@agendaeco72.fr
SUMMARY:[ATELIER] CANVA niveau intermédiaire : créez vos visuels !
DESCRIPTION:
URL:https://agendaeco72.fr/evenement/atelier-canva-niveau-intermediaire-creez-vos-visuels-4/
LOCATION:CCI Le Mans\, 1 Boulevard René Levasseur\, Le Mans\, 72000\, France
CATEGORIES:Atelier
ATTACH;FMTTYPE=image/png:https://agendaeco72.fr/wp-content/uploads/2025/02/RUCHE-NUMERIQUE-Atelier-Canva-16.09.25.png
END:VEVENT
END:VCALENDAR