BEGIN:VCALENDAR
VERSION:2.0
PRODID:-//Agenda Éco 72 - ECPv6.15.18//NONSGML v1.0//EN
CALSCALE:GREGORIAN
METHOD:PUBLISH
X-ORIGINAL-URL:https://agendaeco72.fr
X-WR-CALDESC:Évènements pour Agenda Éco 72
REFRESH-INTERVAL;VALUE=DURATION:PT1H
X-Robots-Tag:noindex
X-PUBLISHED-TTL:PT1H
BEGIN:VTIMEZONE
TZID:Europe/Paris
BEGIN:DAYLIGHT
TZOFFSETFROM:+0100
TZOFFSETTO:+0200
TZNAME:CEST
DTSTART:20240331T010000
END:DAYLIGHT
BEGIN:STANDARD
TZOFFSETFROM:+0200
TZOFFSETTO:+0100
TZNAME:CET
DTSTART:20241027T010000
END:STANDARD
BEGIN:DAYLIGHT
TZOFFSETFROM:+0100
TZOFFSETTO:+0200
TZNAME:CEST
DTSTART:20250330T010000
END:DAYLIGHT
BEGIN:STANDARD
TZOFFSETFROM:+0200
TZOFFSETTO:+0100
TZNAME:CET
DTSTART:20251026T010000
END:STANDARD
BEGIN:DAYLIGHT
TZOFFSETFROM:+0100
TZOFFSETTO:+0200
TZNAME:CEST
DTSTART:20260329T010000
END:DAYLIGHT
BEGIN:STANDARD
TZOFFSETFROM:+0200
TZOFFSETTO:+0100
TZNAME:CET
DTSTART:20261025T010000
END:STANDARD
END:VTIMEZONE
BEGIN:VEVENT
DTSTART;TZID=Europe/Paris:20250916T181500
DTEND;TZID=Europe/Paris:20250916T210000
DTSTAMP:20260421T133315
CREATED:20250207T143111Z
LAST-MODIFIED:20250909T081025Z
UID:10000367-1758046500-1758056400@agendaeco72.fr
SUMMARY:Atelier « Mieux acheter » / Club SO LE MANS
DESCRIPTION:
URL:https://agendaeco72.fr/evenement/atelier-mieux-acheter-club-so-le-mans/
LOCATION:Ausiris\, 22 Rue Louis Breguet\, Le Mans\, 72100\, France
CATEGORIES:Afterwork/soirée
ATTACH;FMTTYPE=image/jpeg:https://agendaeco72.fr/wp-content/uploads/2025/02/SOLEMANS_LOGO-5.jpg
END:VEVENT
BEGIN:VEVENT
DTSTART;TZID=Europe/Paris:20250916T190000
DTEND;TZID=Europe/Paris:20250916T220000
DTSTAMP:20260421T133315
CREATED:20250723T080909Z
LAST-MODIFIED:20250909T080734Z
UID:10000432-1758049200-1758060000@agendaeco72.fr
SUMMARY:Inauguration de la France Design Week Le Mans
DESCRIPTION:
URL:https://agendaeco72.fr/evenement/inauguration-de-la-france-design-week-le-mans/
LOCATION:La Fabrique – Rêve de Ville\, 5 Bd Anatole France\,\, Le Mans\, 72100\, France
CATEGORIES:Afterwork/soirée,Business/réseautage
ATTACH;FMTTYPE=image/png:https://agendaeco72.fr/wp-content/uploads/2025/07/FDW25_Bannieres_Creas_Inauguration-Creapolis_HD.png
END:VEVENT
END:VCALENDAR