BEGIN:VCALENDAR
VERSION:2.0
PRODID:-//Agenda Éco 72 - ECPv6.15.18//NONSGML v1.0//EN
CALSCALE:GREGORIAN
METHOD:PUBLISH
X-WR-CALNAME:Agenda Éco 72
X-ORIGINAL-URL:https://agendaeco72.fr
X-WR-CALDESC:Évènements pour Agenda Éco 72
REFRESH-INTERVAL;VALUE=DURATION:PT1H
X-Robots-Tag:noindex
X-PUBLISHED-TTL:PT1H
BEGIN:VTIMEZONE
TZID:Europe/Paris
BEGIN:DAYLIGHT
TZOFFSETFROM:+0100
TZOFFSETTO:+0200
TZNAME:CEST
DTSTART:20240331T010000
END:DAYLIGHT
BEGIN:STANDARD
TZOFFSETFROM:+0200
TZOFFSETTO:+0100
TZNAME:CET
DTSTART:20241027T010000
END:STANDARD
BEGIN:DAYLIGHT
TZOFFSETFROM:+0100
TZOFFSETTO:+0200
TZNAME:CEST
DTSTART:20250330T010000
END:DAYLIGHT
BEGIN:STANDARD
TZOFFSETFROM:+0200
TZOFFSETTO:+0100
TZNAME:CET
DTSTART:20251026T010000
END:STANDARD
BEGIN:DAYLIGHT
TZOFFSETFROM:+0100
TZOFFSETTO:+0200
TZNAME:CEST
DTSTART:20260329T010000
END:DAYLIGHT
BEGIN:STANDARD
TZOFFSETFROM:+0200
TZOFFSETTO:+0100
TZNAME:CET
DTSTART:20261025T010000
END:STANDARD
END:VTIMEZONE
BEGIN:VEVENT
DTSTART;TZID=Europe/Paris:20250923T080000
DTEND;TZID=Europe/Paris:20250923T170000
DTSTAMP:20260421T212410
CREATED:20250722T113949Z
LAST-MODIFIED:20250909T080353Z
UID:10000429-1758614400-1758646800@agendaeco72.fr
SUMMARY:Forum emploi "Un but pour l'emploi"
DESCRIPTION:Le mardi 23 septembre 2025\, Le Mans Métropole et ses partenaires organisent la 3ᵉ édition du forum de recrutement « Un but pour l’emploi »\, au stade Marie-Marvingt. Entreprises du territoire\, vous êtes invitées à y tenir un stand pour rencontrer vos futurs collaborateurs dans un cadre original et convivial.
URL:https://agendaeco72.fr/evenement/forum-emploi-un-but-pour-lemploi/
LOCATION:Stade Marie-Marvingt\, Chem. aux Bœufs\, Le Mans\, 72100\, France
CATEGORIES:Forum/salon
ATTACH;FMTTYPE=image/jpeg:https://agendaeco72.fr/wp-content/uploads/2025/09/A4_UN-BUT-POUR-EMPLOI_2025_VF_basse_definition_image.jpg
END:VEVENT
END:VCALENDAR