BEGIN:VCALENDAR
VERSION:2.0
PRODID:-//Agenda Éco 72 - ECPv6.15.18//NONSGML v1.0//EN
CALSCALE:GREGORIAN
METHOD:PUBLISH
X-ORIGINAL-URL:https://agendaeco72.fr
X-WR-CALDESC:Évènements pour Agenda Éco 72
REFRESH-INTERVAL;VALUE=DURATION:PT1H
X-Robots-Tag:noindex
X-PUBLISHED-TTL:PT1H
BEGIN:VTIMEZONE
TZID:Europe/Paris
BEGIN:DAYLIGHT
TZOFFSETFROM:+0100
TZOFFSETTO:+0200
TZNAME:CEST
DTSTART:20250330T010000
END:DAYLIGHT
BEGIN:STANDARD
TZOFFSETFROM:+0200
TZOFFSETTO:+0100
TZNAME:CET
DTSTART:20251026T010000
END:STANDARD
BEGIN:DAYLIGHT
TZOFFSETFROM:+0100
TZOFFSETTO:+0200
TZNAME:CEST
DTSTART:20260329T010000
END:DAYLIGHT
BEGIN:STANDARD
TZOFFSETFROM:+0200
TZOFFSETTO:+0100
TZNAME:CET
DTSTART:20261025T010000
END:STANDARD
BEGIN:DAYLIGHT
TZOFFSETFROM:+0100
TZOFFSETTO:+0200
TZNAME:CEST
DTSTART:20270328T010000
END:DAYLIGHT
BEGIN:STANDARD
TZOFFSETFROM:+0200
TZOFFSETTO:+0100
TZNAME:CET
DTSTART:20271031T010000
END:STANDARD
END:VTIMEZONE
BEGIN:VEVENT
DTSTART;TZID=Europe/Paris:20260115T083000
DTEND;TZID=Europe/Paris:20260115T100000
DTSTAMP:20260422T134523
CREATED:20251112T153050Z
LAST-MODIFIED:20251112T153050Z
UID:10000452-1768465800-1768471200@agendaeco72.fr
SUMMARY:Dirigeant\, comment optimiser sa rémunération?
DESCRIPTION:
URL:https://agendaeco72.fr/evenement/dirigeant-comment-optimiser-sa-remuneration/
LOCATION:Emergences\, 1 Rue les Noës\, Parc des Noës\, Spay\, 72700\, France
CATEGORIES:Atelier
ATTACH;FMTTYPE=image/jpeg:https://agendaeco72.fr/wp-content/uploads/2025/11/2026-01_optimiser-remuneration_page-0001.jpg
END:VEVENT
END:VCALENDAR