BEGIN:VCALENDAR
VERSION:2.0
PRODID:-//Agenda Éco 72 - ECPv6.15.18//NONSGML v1.0//EN
CALSCALE:GREGORIAN
METHOD:PUBLISH
X-ORIGINAL-URL:https://agendaeco72.fr
X-WR-CALDESC:Évènements pour Agenda Éco 72
REFRESH-INTERVAL;VALUE=DURATION:PT1H
X-Robots-Tag:noindex
X-PUBLISHED-TTL:PT1H
BEGIN:VTIMEZONE
TZID:Europe/Paris
BEGIN:DAYLIGHT
TZOFFSETFROM:+0100
TZOFFSETTO:+0200
TZNAME:CEST
DTSTART:20230326T010000
END:DAYLIGHT
BEGIN:STANDARD
TZOFFSETFROM:+0200
TZOFFSETTO:+0100
TZNAME:CET
DTSTART:20231029T010000
END:STANDARD
BEGIN:DAYLIGHT
TZOFFSETFROM:+0100
TZOFFSETTO:+0200
TZNAME:CEST
DTSTART:20240331T010000
END:DAYLIGHT
BEGIN:STANDARD
TZOFFSETFROM:+0200
TZOFFSETTO:+0100
TZNAME:CET
DTSTART:20241027T010000
END:STANDARD
BEGIN:DAYLIGHT
TZOFFSETFROM:+0100
TZOFFSETTO:+0200
TZNAME:CEST
DTSTART:20250330T010000
END:DAYLIGHT
BEGIN:STANDARD
TZOFFSETFROM:+0200
TZOFFSETTO:+0100
TZNAME:CET
DTSTART:20251026T010000
END:STANDARD
END:VTIMEZONE
BEGIN:VEVENT
DTSTART;TZID=Europe/Paris:20241203T083000
DTEND;TZID=Europe/Paris:20241203T103000
DTSTAMP:20260423T004637
CREATED:20240716T103221Z
LAST-MODIFIED:20240716T103221Z
UID:10000286-1733214600-1733221800@agendaeco72.fr
SUMMARY:Outils et dispositifs d’aide à l’évolution professionnelle
DESCRIPTION:
URL:https://agendaeco72.fr/evenement/outils-et-dispositifs-daide-a-levolution-professionnelle/
END:VEVENT
BEGIN:VEVENT
DTSTART;TZID=Europe/Paris:20241203T180000
DTEND;TZID=Europe/Paris:20241203T235900
DTSTAMP:20260423T004637
CREATED:20241125T132932Z
LAST-MODIFIED:20241125T132932Z
UID:10000345-1733248800-1733270340@agendaeco72.fr
SUMMARY:Soirée Happy Business | 3 décembre 2024 | Stade Marie-Marvingt
DESCRIPTION:
URL:https://agendaeco72.fr/evenement/soiree-happy-business-3-decembre-2024-stade-marie-marvingt/
END:VEVENT
BEGIN:VEVENT
DTSTART;TZID=Europe/Paris:20241205T083000
DTEND;TZID=Europe/Paris:20241205T103000
DTSTAMP:20260423T004637
CREATED:20240716T103545Z
LAST-MODIFIED:20240716T103545Z
UID:10000287-1733387400-1733394600@agendaeco72.fr
SUMMARY:Outils et dispositifs d’aide à l’évolution professionnelle
DESCRIPTION:
URL:https://agendaeco72.fr/evenement/outils-et-dispositifs-daide-a-levolution-professionnelle-2/
END:VEVENT
BEGIN:VEVENT
DTSTART;TZID=Europe/Paris:20241205T181500
DTEND;TZID=Europe/Paris:20241205T181500
DTSTAMP:20260423T004637
CREATED:20241007T143457Z
LAST-MODIFIED:20241126T152923Z
UID:10000323-1733422500-1733422500@agendaeco72.fr
SUMMARY:CONNECT 2024 : La Sarthe au cœur du numérique
DESCRIPTION:
URL:https://agendaeco72.fr/evenement/connect-2024-la-sarthe-au-coeur-du-numerique/
END:VEVENT
BEGIN:VEVENT
DTSTART;TZID=Europe/Paris:20241210T183000
DTEND;TZID=Europe/Paris:20241210T213000
DTSTAMP:20260423T004637
CREATED:20241014T120954Z
LAST-MODIFIED:20241014T120954Z
UID:10000329-1733855400-1733866200@agendaeco72.fr
SUMMARY:Soirée de l’Engagement
DESCRIPTION:
URL:https://agendaeco72.fr/evenement/soiree-de-lengagement/
END:VEVENT
BEGIN:VEVENT
DTSTART;TZID=Europe/Paris:20241210T190000
DTEND;TZID=Europe/Paris:20241210T220000
DTSTAMP:20260423T004637
CREATED:20241021T075434Z
LAST-MODIFIED:20241021T075434Z
UID:10000336-1733857200-1733868000@agendaeco72.fr
SUMMARY:L’Office Cowork prépare Noël
DESCRIPTION:
URL:https://agendaeco72.fr/evenement/loffice-cowork-prepare-noel/
END:VEVENT
BEGIN:VEVENT
DTSTART;TZID=Europe/Paris:20241211T123000
DTEND;TZID=Europe/Paris:20241211T140000
DTSTAMP:20260423T004637
CREATED:20240716T103916Z
LAST-MODIFIED:20240716T103916Z
UID:10000288-1733920200-1733925600@agendaeco72.fr
SUMMARY:CoRepas 2024
DESCRIPTION:
URL:https://agendaeco72.fr/evenement/corepas-2024/
END:VEVENT
BEGIN:VEVENT
DTSTART;TZID=Europe/Paris:20241212T181000
DTEND;TZID=Europe/Paris:20241212T193000
DTSTAMP:20260423T004637
CREATED:20241007T145646Z
LAST-MODIFIED:20241007T145646Z
UID:10000327-1734027000-1734031800@agendaeco72.fr
SUMMARY:ASSEMBLEE GENERALE DU CLUB LE MANS OUEST ENTREPRISES
DESCRIPTION:
URL:https://agendaeco72.fr/evenement/assemblee-generale-du-club-le-mans-ouest-entreprises/
END:VEVENT
BEGIN:VEVENT
DTSTART;TZID=Europe/Paris:20241217T093000
DTEND;TZID=Europe/Paris:20241217T170000
DTSTAMP:20260423T004637
CREATED:20241121T153451Z
LAST-MODIFIED:20241121T153451Z
UID:10000343-1734427800-1734454800@agendaeco72.fr
SUMMARY:Permanence Création / Reprise
DESCRIPTION:
URL:https://agendaeco72.fr/evenement/permanence-creation-reprise-3/
END:VEVENT
END:VCALENDAR