BEGIN:VCALENDAR
VERSION:2.0
PRODID:-//Agenda Éco 72 - ECPv6.15.18//NONSGML v1.0//EN
CALSCALE:GREGORIAN
METHOD:PUBLISH
X-WR-CALNAME:Agenda Éco 72
X-ORIGINAL-URL:https://agendaeco72.fr
X-WR-CALDESC:Évènements pour Agenda Éco 72
REFRESH-INTERVAL;VALUE=DURATION:PT1H
X-Robots-Tag:noindex
X-PUBLISHED-TTL:PT1H
BEGIN:VTIMEZONE
TZID:Europe/Paris
BEGIN:DAYLIGHT
TZOFFSETFROM:+0100
TZOFFSETTO:+0200
TZNAME:CEST
DTSTART:20240331T010000
END:DAYLIGHT
BEGIN:STANDARD
TZOFFSETFROM:+0200
TZOFFSETTO:+0100
TZNAME:CET
DTSTART:20241027T010000
END:STANDARD
BEGIN:DAYLIGHT
TZOFFSETFROM:+0100
TZOFFSETTO:+0200
TZNAME:CEST
DTSTART:20250330T010000
END:DAYLIGHT
BEGIN:STANDARD
TZOFFSETFROM:+0200
TZOFFSETTO:+0100
TZNAME:CET
DTSTART:20251026T010000
END:STANDARD
BEGIN:DAYLIGHT
TZOFFSETFROM:+0100
TZOFFSETTO:+0200
TZNAME:CEST
DTSTART:20260329T010000
END:DAYLIGHT
BEGIN:STANDARD
TZOFFSETFROM:+0200
TZOFFSETTO:+0100
TZNAME:CET
DTSTART:20261025T010000
END:STANDARD
END:VTIMEZONE
BEGIN:VEVENT
DTSTART;TZID=Europe/Paris:20250515T083000
DTEND;TZID=Europe/Paris:20250515T100000
DTSTAMP:20260420T152404
CREATED:20250422T103013Z
LAST-MODIFIED:20250422T103013Z
UID:10000404-1747297800-1747303200@agendaeco72.fr
SUMMARY:La prospection assistée par l'IA : et si c'était un levier d'efficacité commerciale?
DESCRIPTION:
URL:https://agendaeco72.fr/evenement/la-prospection-assistee-par-lia-et-si-cetait-un-levier-defficacite-commerciale/
END:VEVENT
BEGIN:VEVENT
DTSTART;TZID=Europe/Paris:20250515T090000
DTEND;TZID=Europe/Paris:20250515T170000
DTSTAMP:20260420T152404
CREATED:20250403T153228Z
LAST-MODIFIED:20250403T153228Z
UID:10000397-1747299600-1747328400@agendaeco72.fr
SUMMARY:UNIQUES : le Festival de l'égalité des chances
DESCRIPTION:
URL:https://agendaeco72.fr/evenement/uniques-le-festival-de-legalite-des-chances/
END:VEVENT
BEGIN:VEVENT
DTSTART;TZID=Europe/Paris:20250515T140000
DTEND;TZID=Europe/Paris:20250515T170000
DTSTAMP:20260420T152404
CREATED:20250331T154536Z
LAST-MODIFIED:20250331T154536Z
UID:10000394-1747317600-1747328400@agendaeco72.fr
SUMMARY:Journée de l’entreprenariat sabolien
DESCRIPTION:
URL:https://agendaeco72.fr/evenement/journee-de-lentreprenariat-sabolien/
END:VEVENT
BEGIN:VEVENT
DTSTART;TZID=Europe/Paris:20250520T181500
DTEND;TZID=Europe/Paris:20250520T210000
DTSTAMP:20260420T152404
CREATED:20250207T142728Z
LAST-MODIFIED:20250509T150742Z
UID:10000366-1747764900-1747774800@agendaeco72.fr
SUMMARY:Atelier « Facturation éléctronique » / Club SO LE MANS
DESCRIPTION:
URL:https://agendaeco72.fr/evenement/atelier-facturation-electronique-club-so-le-mans/
END:VEVENT
BEGIN:VEVENT
DTSTART;TZID=Europe/Paris:20250521T090000
DTEND;TZID=Europe/Paris:20250521T113000
DTSTAMP:20260420T152404
CREATED:20250509T070632Z
LAST-MODIFIED:20250509T070632Z
UID:10000409-1747818000-1747827000@agendaeco72.fr
SUMMARY:Créez un Site Web PRO en 1H !
DESCRIPTION:
URL:https://agendaeco72.fr/evenement/creez-un-site-web-pro-en-1h/
END:VEVENT
BEGIN:VEVENT
DTSTART;TZID=Europe/Paris:20250521T133000
DTEND;TZID=Europe/Paris:20250521T170000
DTSTAMP:20260420T152404
CREATED:20250509T070352Z
LAST-MODIFIED:20250509T070352Z
UID:10000408-1747834200-1747846800@agendaeco72.fr
SUMMARY:Diag’Innovation
DESCRIPTION:
URL:https://agendaeco72.fr/evenement/diaginnovation-4/
END:VEVENT
BEGIN:VEVENT
DTSTART;TZID=Europe/Paris:20250521T180000
DTEND;TZID=Europe/Paris:20250521T200000
DTSTAMP:20260420T152404
CREATED:20250331T150813Z
LAST-MODIFIED:20250331T150813Z
UID:10000389-1747850400-1747857600@agendaeco72.fr
SUMMARY:Soirée inauguration antenne 60 000 rebonds Sarthe
DESCRIPTION:
URL:https://agendaeco72.fr/evenement/soiree-inauguration-antenne-60-000-rebonds-sarthe/
END:VEVENT
BEGIN:VEVENT
DTSTART;TZID=Europe/Paris:20250522T090000
DTEND;TZID=Europe/Paris:20250522T160000
DTSTAMP:20260420T152404
CREATED:20250509T064838Z
LAST-MODIFIED:20250509T064838Z
UID:10000407-1747904400-1747929600@agendaeco72.fr
SUMMARY:Sarthe IA DAY
DESCRIPTION:
URL:https://agendaeco72.fr/evenement/sarthe-ia-day/
END:VEVENT
BEGIN:VEVENT
DTSTART;TZID=Europe/Paris:20250522T094500
DTEND;TZID=Europe/Paris:20250522T123000
DTSTAMP:20260420T152404
CREATED:20250331T150440Z
LAST-MODIFIED:20250331T150440Z
UID:10000388-1747907100-1747917000@agendaeco72.fr
SUMMARY:Visite du Campus de l’Université
DESCRIPTION:
URL:https://agendaeco72.fr/evenement/visite-du-campus-de-luniversite/
END:VEVENT
BEGIN:VEVENT
DTSTART;TZID=Europe/Paris:20250528T140000
DTEND;TZID=Europe/Paris:20250528T170000
DTSTAMP:20260420T152404
CREATED:20250509T064509Z
LAST-MODIFIED:20250509T064509Z
UID:10000406-1748440800-1748451600@agendaeco72.fr
SUMMARY:Permanence Propriété Industrielle
DESCRIPTION:
URL:https://agendaeco72.fr/evenement/permanence-propriete-industrielle/
END:VEVENT
END:VCALENDAR