BEGIN:VCALENDAR
VERSION:2.0
PRODID:-//Agenda Éco 72 - ECPv6.15.18//NONSGML v1.0//EN
CALSCALE:GREGORIAN
METHOD:PUBLISH
X-WR-CALNAME:Agenda Éco 72
X-ORIGINAL-URL:https://agendaeco72.fr
X-WR-CALDESC:Évènements pour Agenda Éco 72
REFRESH-INTERVAL;VALUE=DURATION:PT1H
X-Robots-Tag:noindex
X-PUBLISHED-TTL:PT1H
BEGIN:VTIMEZONE
TZID:Europe/Paris
BEGIN:DAYLIGHT
TZOFFSETFROM:+0100
TZOFFSETTO:+0200
TZNAME:CEST
DTSTART:20240331T010000
END:DAYLIGHT
BEGIN:STANDARD
TZOFFSETFROM:+0200
TZOFFSETTO:+0100
TZNAME:CET
DTSTART:20241027T010000
END:STANDARD
BEGIN:DAYLIGHT
TZOFFSETFROM:+0100
TZOFFSETTO:+0200
TZNAME:CEST
DTSTART:20250330T010000
END:DAYLIGHT
BEGIN:STANDARD
TZOFFSETFROM:+0200
TZOFFSETTO:+0100
TZNAME:CET
DTSTART:20251026T010000
END:STANDARD
BEGIN:DAYLIGHT
TZOFFSETFROM:+0100
TZOFFSETTO:+0200
TZNAME:CEST
DTSTART:20260329T010000
END:DAYLIGHT
BEGIN:STANDARD
TZOFFSETFROM:+0200
TZOFFSETTO:+0100
TZNAME:CET
DTSTART:20261025T010000
END:STANDARD
END:VTIMEZONE
BEGIN:VEVENT
DTSTART;TZID=Europe/Paris:20250602T090000
DTEND;TZID=Europe/Paris:20250602T110000
DTSTAMP:20260420T170753
CREATED:20250305T073044Z
LAST-MODIFIED:20250305T073044Z
UID:10000380-1748854800-1748862000@agendaeco72.fr
SUMMARY:[ATELIER] L’intelligence artificielle au service de votre performance !
DESCRIPTION:
URL:https://agendaeco72.fr/evenement/atelier-lintelligence-artificielle-au-service-de-votre-performance/
END:VEVENT
BEGIN:VEVENT
DTSTART;TZID=Europe/Paris:20250602T180000
DTEND;TZID=Europe/Paris:20250602T210000
DTSTAMP:20260420T170753
CREATED:20250603T081642Z
LAST-MODIFIED:20250603T081642Z
UID:10000415-1748887200-1748898000@agendaeco72.fr
SUMMARY:Soirée de l’innovation
DESCRIPTION:
URL:https://agendaeco72.fr/evenement/soiree-de-linnovation/
END:VEVENT
BEGIN:VEVENT
DTSTART;TZID=Europe/Paris:20250603T181500
DTEND;TZID=Europe/Paris:20250603T230000
DTSTAMP:20260420T170753
CREATED:20250403T153719Z
LAST-MODIFIED:20250403T153719Z
UID:10000398-1748974500-1748991600@agendaeco72.fr
SUMMARY:Soirée-conférence « Le changement : subir ou conduire ? »
DESCRIPTION:
URL:https://agendaeco72.fr/evenement/soiree-conference-le-changement-subir-ou-conduire/
END:VEVENT
BEGIN:VEVENT
DTSTART;TZID=Europe/Paris:20250604T170000
DTEND;TZID=Europe/Paris:20250604T200000
DTSTAMP:20260420T170753
CREATED:20250509T064059Z
LAST-MODIFIED:20250509T064059Z
UID:10000405-1749056400-1749067200@agendaeco72.fr
SUMMARY:PRIMS : Visite de l’IUT du MANS
DESCRIPTION:
URL:https://agendaeco72.fr/evenement/prims-visite-de-liut-du-mans/
END:VEVENT
BEGIN:VEVENT
DTSTART;TZID=Europe/Paris:20250605T083000
DTEND;TZID=Europe/Paris:20250605T100000
DTSTAMP:20260420T170753
CREATED:20250512T131658Z
LAST-MODIFIED:20250512T131658Z
UID:10000413-1749112200-1749117600@agendaeco72.fr
SUMMARY:Construire une stratégie réseaux sociaux simple et efficace pour son business
DESCRIPTION:
URL:https://agendaeco72.fr/evenement/construire-une-strategie-reseaux-sociaux-simple-et-efficace-pour-son-business/
END:VEVENT
BEGIN:VEVENT
DTSTART;TZID=Europe/Paris:20250610T083000
DTEND;TZID=Europe/Paris:20250610T103000
DTSTAMP:20260420T170753
CREATED:20250603T081240Z
LAST-MODIFIED:20250603T081240Z
UID:10000414-1749544200-1749551400@agendaeco72.fr
SUMMARY:Création d’une newsletter
DESCRIPTION:
URL:https://agendaeco72.fr/evenement/creation-dune-newsletter/
END:VEVENT
BEGIN:VEVENT
DTSTART;TZID=Europe/Paris:20250611T180000
DTEND;TZID=Europe/Paris:20250615T160000
DTSTAMP:20260420T170753
CREATED:20250606T142336Z
LAST-MODIFIED:20250606T142336Z
UID:10000420-1749664800-1750003200@agendaeco72.fr
SUMMARY:Semaine des 24h du Mans auto 2025
DESCRIPTION:
URL:https://agendaeco72.fr/evenement/semaine-des-24h-du-mans-auto-2025/
CATEGORIES:Business/réseautage
END:VEVENT
BEGIN:VEVENT
DTSTART;TZID=Europe/Paris:20250612T083000
DTEND;TZID=Europe/Paris:20250612T103000
DTSTAMP:20260420T170753
CREATED:20250606T144022Z
LAST-MODIFIED:20250606T144022Z
UID:10000422-1749717000-1749724200@agendaeco72.fr
SUMMARY:[Atelier] Création d’une newsletter sur Brevo
DESCRIPTION:
URL:https://agendaeco72.fr/evenement/atelier-creation-dune-newsletter-sur-brevo/
CATEGORIES:Atelier
END:VEVENT
BEGIN:VEVENT
DTSTART;TZID=Europe/Paris:20250617T181500
DTEND;TZID=Europe/Paris:20250617T210000
DTSTAMP:20260420T170753
CREATED:20250411T103924Z
LAST-MODIFIED:20250509T150704Z
UID:10000402-1750184100-1750194000@agendaeco72.fr
SUMMARY:Atelier "Equilibre vie pro / vie perso"
DESCRIPTION:
URL:https://agendaeco72.fr/evenement/atelier-equilibre-vie-pro-vie-perso/
END:VEVENT
BEGIN:VEVENT
DTSTART;TZID=Europe/Paris:20250619T121500
DTEND;TZID=Europe/Paris:20250619T133000
DTSTAMP:20260420T170753
CREATED:20250605T120748Z
LAST-MODIFIED:20250605T120748Z
UID:10000418-1750335300-1750339800@agendaeco72.fr
SUMMARY:Atelier informatique : Sécuriser les données de votre entreprise
DESCRIPTION:
URL:https://agendaeco72.fr/evenement/atelier-informatique-securiser-les-donnees-de-votre-entreprise/
END:VEVENT
BEGIN:VEVENT
DTSTART;TZID=Europe/Paris:20250619T183000
DTEND;TZID=Europe/Paris:20250619T233000
DTSTAMP:20260420T170753
CREATED:20241016T072615Z
LAST-MODIFIED:20241016T072615Z
UID:10000333-1750357800-1750375800@agendaeco72.fr
SUMMARY:Soirée des adhérents du réseau Initiative Sarthe
DESCRIPTION:
URL:https://agendaeco72.fr/evenement/soiree-des-adherents-du-reseau-initiative-sarthe/
END:VEVENT
BEGIN:VEVENT
DTSTART;TZID=Europe/Paris:20250626T140000
DTEND;TZID=Europe/Paris:20250626T160000
DTSTAMP:20260420T170753
CREATED:20250605T121223Z
LAST-MODIFIED:20250605T121223Z
UID:10000419-1750946400-1750953600@agendaeco72.fr
SUMMARY:BBQ PARTY / Club LMOE
DESCRIPTION:
URL:https://agendaeco72.fr/evenement/bbq-party-club-lmoe/
END:VEVENT
END:VCALENDAR