BEGIN:VCALENDAR
VERSION:2.0
PRODID:-//Agenda Éco 72 - ECPv6.15.18//NONSGML v1.0//EN
CALSCALE:GREGORIAN
METHOD:PUBLISH
X-ORIGINAL-URL:https://agendaeco72.fr
X-WR-CALDESC:Évènements pour Agenda Éco 72
REFRESH-INTERVAL;VALUE=DURATION:PT1H
X-Robots-Tag:noindex
X-PUBLISHED-TTL:PT1H
BEGIN:VTIMEZONE
TZID:Europe/Paris
BEGIN:DAYLIGHT
TZOFFSETFROM:+0100
TZOFFSETTO:+0200
TZNAME:CEST
DTSTART:20220327T010000
END:DAYLIGHT
BEGIN:STANDARD
TZOFFSETFROM:+0200
TZOFFSETTO:+0100
TZNAME:CET
DTSTART:20221030T010000
END:STANDARD
BEGIN:DAYLIGHT
TZOFFSETFROM:+0100
TZOFFSETTO:+0200
TZNAME:CEST
DTSTART:20230326T010000
END:DAYLIGHT
BEGIN:STANDARD
TZOFFSETFROM:+0200
TZOFFSETTO:+0100
TZNAME:CET
DTSTART:20231029T010000
END:STANDARD
BEGIN:DAYLIGHT
TZOFFSETFROM:+0100
TZOFFSETTO:+0200
TZNAME:CEST
DTSTART:20240331T010000
END:DAYLIGHT
BEGIN:STANDARD
TZOFFSETFROM:+0200
TZOFFSETTO:+0100
TZNAME:CET
DTSTART:20241027T010000
END:STANDARD
BEGIN:DAYLIGHT
TZOFFSETFROM:+0100
TZOFFSETTO:+0200
TZNAME:CEST
DTSTART:20250330T010000
END:DAYLIGHT
BEGIN:STANDARD
TZOFFSETFROM:+0200
TZOFFSETTO:+0100
TZNAME:CET
DTSTART:20251026T010000
END:STANDARD
BEGIN:DAYLIGHT
TZOFFSETFROM:+0100
TZOFFSETTO:+0200
TZNAME:CEST
DTSTART:20260329T010000
END:DAYLIGHT
BEGIN:STANDARD
TZOFFSETFROM:+0200
TZOFFSETTO:+0100
TZNAME:CET
DTSTART:20261025T010000
END:STANDARD
END:VTIMEZONE
BEGIN:VEVENT
DTSTART;TZID=Europe/Paris:20251204T180000
DTEND;TZID=Europe/Paris:20251204T213000
DTSTAMP:20260420T143248
CREATED:20251119T135754Z
LAST-MODIFIED:20251211T100356Z
UID:10000455-1764871200-1764883800@agendaeco72.fr
SUMMARY:CONNECT\, la Sarthe au cœur du numérique – De l’idée à l’action : trouvez vos usages de l’IA
DESCRIPTION:Entreprises et collectivités\, de l’idée à l’action : trouvez vos usages de l’IA ! Le 4 décembre prochain dès 18h15 à l’Espace Saugonna\, 2 Rue de la Gare – 72600 Mamers \nCet événement gratuit est organisé par le Département\, la CCI Le Mans Sarthe\, Sarthe Numérique et la communauté de communes Maine Saosnois. \nPourquoi venir ?\n🔹 Comprendre où en est l’IA aujourd’hui et où elle nous mène\n🔹 Bénéficier de retours d’expériences concrets autour des usages de l’IA\n🔹 Découvrir des solutions IA pour votre entreprise ou collectivité\n🔹 Participer à des ateliers de démonstration\,\n🔹 Networker autour d’un cocktail \n👉 Une occasion unique pour faire le point\, découvrir\, échanger et passer de l’idée à l’action ! \n 
URL:https://agendaeco72.fr/evenement/connect-la-sarthe-au-coeur-du-numerique-de-lidee-a-laction-trouvez-vos-usages-de-lia/
LOCATION:Espace Saugonna\, 2 Rue de la Gare – 72600 Mamers
CATEGORIES:Business/réseautage,Conférence/table-ronde
ATTACH;FMTTYPE=image/jpeg:https://agendaeco72.fr/wp-content/uploads/2025/11/2025-Connect-visuel-VF-CD72.jpg
END:VEVENT
BEGIN:VEVENT
DTSTART;TZID=Europe/Paris:20251113T183000
DTEND;TZID=Europe/Paris:20251113T210000
DTSTAMP:20260420T143248
CREATED:20251006T075317Z
LAST-MODIFIED:20251006T075317Z
UID:10000450-1763058600-1763067600@agendaeco72.fr
SUMMARY:Conférence transmission reprise d’entreprise Et si vous étiez le vrai frein à la cession de votre entreprise ? Comment les émotions peuvent ruiner les meilleures intentions ?
DESCRIPTION:
URL:https://agendaeco72.fr/evenement/conference-transmission-reprise-dentreprise-et-si-vous-etiez-le-vrai-frein-a-la-cession-de-votre-entreprise-comment-les-emotions-peuvent-ruiner-les-meilleures-intentions/
LOCATION:CCI Le Mans\, 1 Boulevard René Levasseur\, Le Mans\, 72000\, France
CATEGORIES:Conférence/table-ronde
END:VEVENT
BEGIN:VEVENT
DTSTART;TZID=Europe/Paris:20230309T143000
DTEND;TZID=Europe/Paris:20230309T163000
DTSTAMP:20260420T143248
CREATED:20230309T101324Z
LAST-MODIFIED:20230309T174249Z
UID:10000008-1678372200-1678379400@agendaeco72.fr
SUMMARY:Présentation agendaeco72.fr
DESCRIPTION:
URL:https://agendaeco72.fr/evenement/presentation-agendaeco72-fr/
END:VEVENT
END:VCALENDAR